Package: DFP Version: 1.64.0 Command: F:\biocbuild\bbs-3.20-bioc\R\bin\R.exe CMD check --no-multiarch --install=check:DFP.install-out.txt --library=F:\biocbuild\bbs-3.20-bioc\R\library --no-vignettes --timings DFP_1.64.0.tar.gz StartedAt: 2025-02-04 01:11:45 -0500 (Tue, 04 Feb 2025) EndedAt: 2025-02-04 01:12:27 -0500 (Tue, 04 Feb 2025) EllapsedTime: 42.0 seconds RetCode: 0 Status: OK CheckDir: DFP.Rcheck Warnings: 0