Package: DFP Version: 1.64.0 Command: /home/biocbuild/R/R/bin/R CMD build --keep-empty-dirs --no-resave-data DFP StartedAt: 2025-02-03 23:11:25 -0000 (Mon, 03 Feb 2025) EndedAt: 2025-02-03 23:11:36 -0000 (Mon, 03 Feb 2025) EllapsedTime: 11.0 seconds RetCode: 0 Status: OK PackageFile: DFP_1.64.0.tar.gz PackageFileSize: 488.2 KiB