Package: DFP Version: 1.64.0 Command: /home/biocbuild/R/R/bin/R CMD check --install=check:DFP.install-out.txt --library=/home/biocbuild/R/R/site-library --no-vignettes --timings DFP_1.64.0.tar.gz StartedAt: 2025-02-04 06:24:25 -0000 (Tue, 04 Feb 2025) EndedAt: 2025-02-04 06:25:06 -0000 (Tue, 04 Feb 2025) EllapsedTime: 41.1 seconds RetCode: 0 Status: OK CheckDir: DFP.Rcheck Warnings: 0