Package: DFplyr Version: 1.0.0 Command: /Library/Frameworks/R.framework/Resources/bin/R CMD INSTALL DFplyr StartedAt: 2025-02-03 15:19:00 -0500 (Mon, 03 Feb 2025) EndedAt: 2025-02-03 15:19:09 -0500 (Mon, 03 Feb 2025) EllapsedTime: 8.3 seconds RetCode: 0 Status: OK