Package: DFplyr Version: 1.0.0 Command: rm -rf DFplyr.buildbin-libdir && mkdir DFplyr.buildbin-libdir && /Users/biocbuild/BBS/utils/build-universal.sh DFplyr_1.0.0.tar.gz /Library/Frameworks/R.framework/Resources/bin/R DFplyr.buildbin-libdir StartedAt: 2025-02-04 12:49:39 -0500 (Tue, 04 Feb 2025) EndedAt: 2025-02-04 12:49:57 -0500 (Tue, 04 Feb 2025) EllapsedTime: 17.2 seconds RetCode: 0 Status: OK PackageFile: DFplyr_1.0.0.tgz PackageFileSize: 542.4 KiB