Package: DFplyr Version: 1.0.0 Command: /Library/Frameworks/R.framework/Resources/bin/R CMD INSTALL DFplyr StartedAt: 2025-02-10 15:07:44 -0500 (Mon, 10 Feb 2025) EndedAt: 2025-02-10 15:07:59 -0500 (Mon, 10 Feb 2025) EllapsedTime: 15.8 seconds RetCode: 0 Status: OK