Package: DFplyr Version: 1.0.0 Command: rm -rf DFplyr.buildbin-libdir && mkdir DFplyr.buildbin-libdir && F:\biocbuild\bbs-3.20-bioc\R\bin\R.exe CMD INSTALL --build --library=DFplyr.buildbin-libdir DFplyr_1.0.0.tar.gz StartedAt: 2025-02-04 08:22:34 -0500 (Tue, 04 Feb 2025) EndedAt: 2025-02-04 08:22:51 -0500 (Tue, 04 Feb 2025) EllapsedTime: 17.6 seconds RetCode: 0 Status: OK PackageFile: DFplyr_1.0.0.zip PackageFileSize: 552 KiB