Package: DFplyr Version: 1.0.0 Command: /home/biocbuild/R/R/bin/R CMD check --install=check:DFplyr.install-out.txt --library=/home/biocbuild/R/R/site-library --no-vignettes --timings DFplyr_1.0.0.tar.gz StartedAt: 2025-02-04 06:24:58 -0000 (Tue, 04 Feb 2025) EndedAt: 2025-02-04 06:26:06 -0000 (Tue, 04 Feb 2025) EllapsedTime: 68.1 seconds RetCode: 0 Status: OK CheckDir: DFplyr.Rcheck Warnings: 0