Package: DIAlignR Version: 2.14.0 Command: /Library/Frameworks/R.framework/Resources/bin/R CMD INSTALL DIAlignR StartedAt: 2025-01-30 16:17:20 -0500 (Thu, 30 Jan 2025) EndedAt: 2025-01-30 16:18:20 -0500 (Thu, 30 Jan 2025) EllapsedTime: 60.0 seconds RetCode: 0 Status: OK