Package: DIAlignR Version: 2.14.0 Command: /Library/Frameworks/R.framework/Resources/bin/R CMD check --install=check:DIAlignR.install-out.txt --library=/Library/Frameworks/R.framework/Resources/library --no-vignettes --timings DIAlignR_2.14.0.tar.gz StartedAt: 2025-01-31 03:01:06 -0500 (Fri, 31 Jan 2025) EndedAt: 2025-01-31 03:07:49 -0500 (Fri, 31 Jan 2025) EllapsedTime: 402.3 seconds RetCode: 1 Status: ERROR CheckDir: DIAlignR.Rcheck Warnings: NA