Package: DIAlignR Version: 2.14.0 Command: /Library/Frameworks/R.framework/Resources/bin/R CMD INSTALL DIAlignR StartedAt: 2025-01-30 15:45:41 -0500 (Thu, 30 Jan 2025) EndedAt: 2025-01-30 15:47:59 -0500 (Thu, 30 Jan 2025) EllapsedTime: 138.2 seconds RetCode: 0 Status: OK