Package: DIAlignR Version: 2.14.0 Command: rm -rf DIAlignR.buildbin-libdir && mkdir DIAlignR.buildbin-libdir && F:\biocbuild\bbs-3.20-bioc\R\bin\R.exe CMD INSTALL --build --library=DIAlignR.buildbin-libdir DIAlignR_2.14.0.tar.gz StartedAt: 2025-01-31 08:32:40 -0500 (Fri, 31 Jan 2025) EndedAt: 2025-01-31 08:34:39 -0500 (Fri, 31 Jan 2025) EllapsedTime: 118.7 seconds RetCode: 0 Status: OK PackageFile: DIAlignR_2.14.0.zip PackageFileSize: 4.788 MiB