Package: DIAlignR Version: 2.14.0 Command: F:\biocbuild\bbs-3.20-bioc\R\bin\R.exe CMD INSTALL DIAlignR StartedAt: 2025-01-30 15:46:00 -0500 (Thu, 30 Jan 2025) EndedAt: 2025-01-30 15:47:57 -0500 (Thu, 30 Jan 2025) EllapsedTime: 116.2 seconds RetCode: 0 Status: OK