Package: DIAlignR Version: 2.14.0 Command: /home/biocbuild/R/R/bin/R CMD build --keep-empty-dirs --no-resave-data DIAlignR StartedAt: 2025-02-03 23:11:37 -0000 (Mon, 03 Feb 2025) EndedAt: 2025-02-03 23:13:34 -0000 (Mon, 03 Feb 2025) EllapsedTime: 117.0 seconds RetCode: 0 Status: OK PackageFile: DIAlignR_2.14.0.tar.gz PackageFileSize: 4.13 MiB