Package: DIAlignR Version: 2.14.0 Command: /home/biocbuild/R/R/bin/R CMD INSTALL DIAlignR StartedAt: 2025-01-30 20:31:49 -0000 (Thu, 30 Jan 2025) EndedAt: 2025-01-30 20:33:11 -0000 (Thu, 30 Jan 2025) EllapsedTime: 82.1 seconds RetCode: 0 Status: OK