Package: DMCHMM Version: 1.28.0 Command: rm -rf DMCHMM.buildbin-libdir && mkdir DMCHMM.buildbin-libdir && /Users/biocbuild/BBS/utils/build-universal.sh DMCHMM_1.28.0.tar.gz /Library/Frameworks/R.framework/Resources/bin/R DMCHMM.buildbin-libdir StartedAt: 2025-01-31 12:42:27 -0500 (Fri, 31 Jan 2025) EndedAt: 2025-01-31 12:43:43 -0500 (Fri, 31 Jan 2025) EllapsedTime: 76.0 seconds RetCode: 0 Status: OK PackageFile: DMCHMM_1.28.0.tgz PackageFileSize: 964.9 KiB