Package: DMCHMM Version: 1.28.0 Command: /Library/Frameworks/R.framework/Resources/bin/R CMD build --keep-empty-dirs --no-resave-data DMCHMM StartedAt: 2025-02-03 18:35:32 -0500 (Mon, 03 Feb 2025) EndedAt: 2025-02-03 18:39:01 -0500 (Mon, 03 Feb 2025) EllapsedTime: 209.3 seconds RetCode: 0 Status: OK PackageFile: DMCHMM_1.28.0.tar.gz PackageFileSize: 743.7 KiB