Package: DMCHMM Version: 1.28.0 Command: /Library/Frameworks/R.framework/Resources/bin/R CMD INSTALL DMCHMM StartedAt: 2025-01-30 16:18:54 -0500 (Thu, 30 Jan 2025) EndedAt: 2025-01-30 16:20:13 -0500 (Thu, 30 Jan 2025) EllapsedTime: 78.9 seconds RetCode: 0 Status: OK