Package: DMCHMM Version: 1.28.0 Command: /home/biocbuild/bbs-3.20-bioc/R/bin/R CMD check --install=check:DMCHMM.install-out.txt --library=/home/biocbuild/bbs-3.20-bioc/R/site-library --timings DMCHMM_1.28.0.tar.gz StartedAt: 2025-01-30 21:44:15 -0500 (Thu, 30 Jan 2025) EndedAt: 2025-01-30 21:51:38 -0500 (Thu, 30 Jan 2025) EllapsedTime: 443.4 seconds RetCode: 0 Status: OK CheckDir: DMCHMM.Rcheck Warnings: 0