Package: DMCHMM Version: 1.28.0 Command: /home/biocbuild/bbs-3.20-bioc/R/bin/R CMD INSTALL DMCHMM StartedAt: 2025-01-30 15:46:00 -0500 (Thu, 30 Jan 2025) EndedAt: 2025-01-30 15:46:34 -0500 (Thu, 30 Jan 2025) EllapsedTime: 33.4 seconds RetCode: 0 Status: OK