Package: DMCHMM Version: 1.28.0 Command: rm -rf DMCHMM.buildbin-libdir && mkdir DMCHMM.buildbin-libdir && F:\biocbuild\bbs-3.20-bioc\R\bin\R.exe CMD INSTALL --build --library=DMCHMM.buildbin-libdir DMCHMM_1.28.0.tar.gz StartedAt: 2025-02-04 08:23:35 -0500 (Tue, 04 Feb 2025) EndedAt: 2025-02-04 08:24:28 -0500 (Tue, 04 Feb 2025) EllapsedTime: 52.8 seconds RetCode: 0 Status: OK PackageFile: DMCHMM_1.28.0.zip PackageFileSize: 955 KiB