Package: DMCHMM Version: 1.28.0 Command: /home/biocbuild/R/R/bin/R CMD check --install=check:DMCHMM.install-out.txt --library=/home/biocbuild/R/R/site-library --no-vignettes --timings DMCHMM_1.28.0.tar.gz StartedAt: 2025-01-31 05:46:46 -0000 (Fri, 31 Jan 2025) EndedAt: 2025-01-31 05:55:26 -0000 (Fri, 31 Jan 2025) EllapsedTime: 519.6 seconds RetCode: 0 Status: OK CheckDir: DMCHMM.Rcheck Warnings: 0