Package: DMCHMM Version: 1.28.0 Command: /home/biocbuild/R/R/bin/R CMD INSTALL DMCHMM StartedAt: 2025-01-30 20:52:35 -0000 (Thu, 30 Jan 2025) EndedAt: 2025-01-30 20:53:15 -0000 (Thu, 30 Jan 2025) EllapsedTime: 40.2 seconds RetCode: 0 Status: OK