Package: DMRScan Version: 1.28.0 Command: /Library/Frameworks/R.framework/Resources/bin/R CMD build --keep-empty-dirs --no-resave-data DMRScan StartedAt: 2025-02-03 22:44:12 -0500 (Mon, 03 Feb 2025) EndedAt: 2025-02-03 22:45:42 -0500 (Mon, 03 Feb 2025) EllapsedTime: 90.0 seconds RetCode: 1 Status: ERROR PackageFile: None PackageFileSize: NA