Package: DMRScan Version: 1.28.0 Command: /home/biocbuild/bbs-3.20-bioc/R/bin/R CMD build --keep-empty-dirs --no-resave-data --md5 DMRScan StartedAt: 2025-02-03 17:13:56 -0500 (Mon, 03 Feb 2025) EndedAt: 2025-02-03 17:15:22 -0500 (Mon, 03 Feb 2025) EllapsedTime: 86.1 seconds RetCode: 0 Status: OK PackageFile: DMRScan_1.28.0.tar.gz PackageFileSize: 3.348 MiB