Package: DMRScan Version: 1.28.0 Command: /home/biocbuild/R/R/bin/R CMD build --keep-empty-dirs --no-resave-data DMRScan StartedAt: 2025-02-10 23:03:40 -0000 (Mon, 10 Feb 2025) EndedAt: 2025-02-10 23:05:51 -0000 (Mon, 10 Feb 2025) EllapsedTime: 131.0 seconds RetCode: 0 Status: OK PackageFile: DMRScan_1.28.0.tar.gz PackageFileSize: 3.371 MiB