Package: DMRScan Version: 1.28.0 Command: /home/biocbuild/R/R/bin/R CMD INSTALL DMRScan StartedAt: 2025-02-03 20:29:45 -0000 (Mon, 03 Feb 2025) EndedAt: 2025-02-03 20:30:04 -0000 (Mon, 03 Feb 2025) EllapsedTime: 19.2 seconds RetCode: 0 Status: OK