Package: DMRcaller Version: 1.38.0 Command: /Library/Frameworks/R.framework/Resources/bin/R CMD check --install=check:DMRcaller.install-out.txt --library=/Library/Frameworks/R.framework/Resources/library --no-vignettes --timings DMRcaller_1.38.0.tar.gz StartedAt: 2025-01-31 17:49:03 -0500 (Fri, 31 Jan 2025) EndedAt: 2025-01-31 17:53:57 -0500 (Fri, 31 Jan 2025) EllapsedTime: 294.1 seconds RetCode: 0 Status: OK CheckDir: DMRcaller.Rcheck Warnings: 0