Package: DMRcaller Version: 1.38.0 Command: /Library/Frameworks/R.framework/Resources/bin/R CMD INSTALL DMRcaller StartedAt: 2025-01-30 15:20:35 -0500 (Thu, 30 Jan 2025) EndedAt: 2025-01-30 15:20:51 -0500 (Thu, 30 Jan 2025) EllapsedTime: 15.3 seconds RetCode: 0 Status: OK