Package: DMRcaller Version: 1.38.0 Command: /home/biocbuild/bbs-3.20-bioc/R/bin/R CMD build --keep-empty-dirs --no-resave-data --md5 DMRcaller StartedAt: 2025-02-03 17:13:47 -0500 (Mon, 03 Feb 2025) EndedAt: 2025-02-03 17:14:57 -0500 (Mon, 03 Feb 2025) EllapsedTime: 70.1 seconds RetCode: 0 Status: OK PackageFile: DMRcaller_1.38.0.tar.gz PackageFileSize: 1.635 MiB