Package: DMRcaller Version: 1.38.0 Command: /home/biocbuild/R/R/bin/R CMD build --keep-empty-dirs --no-resave-data DMRcaller StartedAt: 2025-01-30 23:13:41 -0000 (Thu, 30 Jan 2025) EndedAt: 2025-01-30 23:15:23 -0000 (Thu, 30 Jan 2025) EllapsedTime: 102.0 seconds RetCode: 0 Status: OK PackageFile: DMRcaller_1.38.0.tar.gz PackageFileSize: 1.623 MiB