Package: DMRcaller Version: 1.38.0 Command: /home/biocbuild/R/R/bin/R CMD check --install=check:DMRcaller.install-out.txt --library=/home/biocbuild/R/R/site-library --no-vignettes --timings DMRcaller_1.38.0.tar.gz StartedAt: 2025-01-31 05:46:59 -0000 (Fri, 31 Jan 2025) EndedAt: 2025-01-31 05:53:12 -0000 (Fri, 31 Jan 2025) EllapsedTime: 372.4 seconds RetCode: 0 Status: OK CheckDir: DMRcaller.Rcheck Warnings: 0