Package: DMRcaller Version: 1.38.0 Command: /home/biocbuild/R/R/bin/R CMD INSTALL DMRcaller StartedAt: 2025-01-30 20:14:18 -0000 (Thu, 30 Jan 2025) EndedAt: 2025-01-30 20:14:35 -0000 (Thu, 30 Jan 2025) EllapsedTime: 16.7 seconds RetCode: 0 Status: OK