Package: DNABarcodeCompatibility Version: 1.22.0 Command: /Library/Frameworks/R.framework/Resources/bin/R CMD build --keep-empty-dirs --no-resave-data DNABarcodeCompatibility StartedAt: 2025-02-03 22:44:21 -0500 (Mon, 03 Feb 2025) EndedAt: 2025-02-03 22:45:29 -0500 (Mon, 03 Feb 2025) EllapsedTime: 68.4 seconds RetCode: 0 Status: OK PackageFile: DNABarcodeCompatibility_1.22.0.tar.gz PackageFileSize: 260.3 KiB