Package: DNABarcodeCompatibility Version: 1.22.0 Command: /Library/Frameworks/R.framework/Resources/bin/R CMD INSTALL DNABarcodeCompatibility StartedAt: 2025-01-30 18:22:34 -0500 (Thu, 30 Jan 2025) EndedAt: 2025-01-30 18:23:04 -0500 (Thu, 30 Jan 2025) EllapsedTime: 30.1 seconds RetCode: 0 Status: OK