Package: DNABarcodeCompatibility Version: 1.22.0 Command: /Library/Frameworks/R.framework/Resources/bin/R CMD build --keep-empty-dirs --no-resave-data DNABarcodeCompatibility StartedAt: 2025-02-03 18:36:19 -0500 (Mon, 03 Feb 2025) EndedAt: 2025-02-03 18:39:34 -0500 (Mon, 03 Feb 2025) EllapsedTime: 194.1 seconds RetCode: 0 Status: OK PackageFile: DNABarcodeCompatibility_1.22.0.tar.gz PackageFileSize: 260.1 KiB