Package: DNABarcodeCompatibility Version: 1.22.0 Command: /Library/Frameworks/R.framework/Resources/bin/R CMD check --install=check:DNABarcodeCompatibility.install-out.txt --library=/Library/Frameworks/R.framework/Resources/library --no-vignettes --timings DNABarcodeCompatibility_1.22.0.tar.gz StartedAt: 2025-02-04 02:56:15 -0500 (Tue, 04 Feb 2025) EndedAt: 2025-02-04 02:57:50 -0500 (Tue, 04 Feb 2025) EllapsedTime: 95.1 seconds RetCode: 0 Status: OK CheckDir: DNABarcodeCompatibility.Rcheck Warnings: 0