Package: DNABarcodeCompatibility Version: 1.22.0 Command: /Library/Frameworks/R.framework/Resources/bin/R CMD INSTALL DNABarcodeCompatibility StartedAt: 2025-02-03 16:50:17 -0500 (Mon, 03 Feb 2025) EndedAt: 2025-02-03 16:51:20 -0500 (Mon, 03 Feb 2025) EllapsedTime: 63.5 seconds RetCode: 0 Status: OK