Package: DNABarcodeCompatibility Version: 1.22.0 Command: /home/biocbuild/bbs-3.20-bioc/R/bin/R CMD INSTALL DNABarcodeCompatibility StartedAt: 2025-02-10 16:03:41 -0500 (Mon, 10 Feb 2025) EndedAt: 2025-02-10 16:04:12 -0500 (Mon, 10 Feb 2025) EllapsedTime: 31.6 seconds RetCode: 0 Status: OK