Package: DNABarcodeCompatibility Version: 1.22.0 Command: rm -rf DNABarcodeCompatibility.buildbin-libdir && mkdir DNABarcodeCompatibility.buildbin-libdir && F:\biocbuild\bbs-3.20-bioc\R\bin\R.exe CMD INSTALL --build --library=DNABarcodeCompatibility.buildbin-libdir DNABarcodeCompatibility_1.22.0.tar.gz StartedAt: 2025-01-31 08:33:49 -0500 (Fri, 31 Jan 2025) EndedAt: 2025-01-31 08:41:32 -0500 (Fri, 31 Jan 2025) EllapsedTime: 463.1 seconds RetCode: 0 Status: OK PackageFile: DNABarcodeCompatibility_1.22.0.zip PackageFileSize: 704.5 KiB