Package: DNABarcodeCompatibility Version: 1.22.0 Command: chmod a+r DNABarcodeCompatibility -R && F:\biocbuild\bbs-3.20-bioc\R\bin\R.exe CMD build --keep-empty-dirs --no-resave-data DNABarcodeCompatibility StartedAt: 2025-02-03 18:44:48 -0500 (Mon, 03 Feb 2025) EndedAt: 2025-02-03 18:46:23 -0500 (Mon, 03 Feb 2025) EllapsedTime: 95.0 seconds RetCode: 0 Status: OK PackageFile: DNABarcodeCompatibility_1.22.0.tar.gz PackageFileSize: 260.5 KiB