Package: DNABarcodeCompatibility Version: 1.22.0 Command: /home/biocbuild/R/R/bin/R CMD check --install=check:DNABarcodeCompatibility.install-out.txt --library=/home/biocbuild/R/R/site-library --no-vignettes --timings DNABarcodeCompatibility_1.22.0.tar.gz StartedAt: 2025-02-11 05:45:00 -0000 (Tue, 11 Feb 2025) EndedAt: 2025-02-11 05:45:46 -0000 (Tue, 11 Feb 2025) EllapsedTime: 46.0 seconds RetCode: 0 Status: OK CheckDir: DNABarcodeCompatibility.Rcheck Warnings: 0