Package: DNABarcodes Version: 1.36.0 Command: /Library/Frameworks/R.framework/Resources/bin/R CMD check --install=check:DNABarcodes.install-out.txt --library=/Library/Frameworks/R.framework/Resources/library --no-vignettes --timings DNABarcodes_1.36.0.tar.gz StartedAt: 2024-11-19 21:34:28 -0500 (Tue, 19 Nov 2024) EndedAt: 2024-11-19 21:39:06 -0500 (Tue, 19 Nov 2024) EllapsedTime: 277.7 seconds RetCode: 0 Status: OK CheckDir: DNABarcodes.Rcheck Warnings: 0