Package: DNABarcodes Version: 1.36.0 Command: rm -rf DNABarcodes.buildbin-libdir && mkdir DNABarcodes.buildbin-libdir && /Users/biocbuild/BBS/utils/build-universal.sh DNABarcodes_1.36.0.tar.gz /Library/Frameworks/R.framework/Resources/bin/R DNABarcodes.buildbin-libdir StartedAt: 2025-02-04 12:51:06 -0500 (Tue, 04 Feb 2025) EndedAt: 2025-02-04 12:53:31 -0500 (Tue, 04 Feb 2025) EllapsedTime: 145.5 seconds RetCode: 0 Status: OK PackageFile: DNABarcodes_1.36.0.tgz PackageFileSize: 485.3 KiB