Package: DNABarcodes Version: 1.36.0 Command: /Library/Frameworks/R.framework/Resources/bin/R CMD INSTALL DNABarcodes StartedAt: 2025-02-03 16:15:03 -0500 (Mon, 03 Feb 2025) EndedAt: 2025-02-03 16:17:18 -0500 (Mon, 03 Feb 2025) EllapsedTime: 135.2 seconds RetCode: 0 Status: OK