Package: DNABarcodes Version: 1.36.0 Command: /home/biocbuild/bbs-3.20-bioc/R/bin/R CMD build --keep-empty-dirs --no-resave-data --md5 DNABarcodes StartedAt: 2025-02-03 17:14:24 -0500 (Mon, 03 Feb 2025) EndedAt: 2025-02-03 17:15:40 -0500 (Mon, 03 Feb 2025) EllapsedTime: 76.1 seconds RetCode: 0 Status: OK PackageFile: DNABarcodes_1.36.0.tar.gz PackageFileSize: 350.6 KiB