Package: DNABarcodes Version: 1.36.0 Command: F:\biocbuild\bbs-3.20-bioc\R\bin\R.exe CMD INSTALL DNABarcodes StartedAt: 2025-02-10 16:34:19 -0500 (Mon, 10 Feb 2025) EndedAt: 2025-02-10 16:36:48 -0500 (Mon, 10 Feb 2025) EllapsedTime: 149.4 seconds RetCode: 0 Status: OK