Package: DNAcopy Version: 1.80.0 Command: /Library/Frameworks/R.framework/Resources/bin/R CMD build --keep-empty-dirs --no-resave-data DNAcopy StartedAt: 2025-02-10 22:56:25 -0500 (Mon, 10 Feb 2025) EndedAt: 2025-02-10 22:56:45 -0500 (Mon, 10 Feb 2025) EllapsedTime: 19.5 seconds RetCode: 0 Status: OK PackageFile: DNAcopy_1.80.0.tar.gz PackageFileSize: 404.8 KiB