Package: DNAcopy Version: 1.80.0 Command: /Library/Frameworks/R.framework/Resources/bin/R CMD INSTALL DNAcopy StartedAt: 2025-02-03 15:12:00 -0500 (Mon, 03 Feb 2025) EndedAt: 2025-02-03 15:12:17 -0500 (Mon, 03 Feb 2025) EllapsedTime: 17.0 seconds RetCode: 0 Status: OK