Package: DNAcopy Version: 1.80.0 Command: F:\biocbuild\bbs-3.20-bioc\R\bin\R.exe CMD INSTALL DNAcopy StartedAt: 2025-02-03 15:30:58 -0500 (Mon, 03 Feb 2025) EndedAt: 2025-02-03 15:31:26 -0500 (Mon, 03 Feb 2025) EllapsedTime: 28.3 seconds RetCode: 0 Status: OK